Package: tidySingleCellExperiment Version: 1.16.0 Command: /Library/Frameworks/R.framework/Resources/bin/R CMD build --keep-empty-dirs --no-resave-data tidySingleCellExperiment StartedAt: 2025-02-03 22:54:42 -0500 (Mon, 03 Feb 2025) EndedAt: 2025-02-03 22:57:21 -0500 (Mon, 03 Feb 2025) EllapsedTime: 158.7 seconds RetCode: 0 Status: OK PackageFile: tidySingleCellExperiment_1.16.0.tar.gz PackageFileSize: 1.806 MiB