Package: tidySingleCellExperiment Version: 1.16.0 Command: /Library/Frameworks/R.framework/Resources/bin/R CMD check --install=check:tidySingleCellExperiment.install-out.txt --library=/Library/Frameworks/R.framework/Resources/library --no-vignettes --timings tidySingleCellExperiment_1.16.0.tar.gz StartedAt: 2025-02-04 11:16:11 -0500 (Tue, 04 Feb 2025) EndedAt: 2025-02-04 11:24:06 -0500 (Tue, 04 Feb 2025) EllapsedTime: 475.6 seconds RetCode: 0 Status: OK CheckDir: tidySingleCellExperiment.Rcheck Warnings: 0