Package: tidySingleCellExperiment Version: 1.16.0 Command: /home/biocbuild/R/R/bin/R CMD build --keep-empty-dirs --no-resave-data tidySingleCellExperiment StartedAt: 2025-01-31 03:11:23 -0000 (Fri, 31 Jan 2025) EndedAt: 2025-01-31 03:12:55 -0000 (Fri, 31 Jan 2025) EllapsedTime: 92.1 seconds RetCode: 0 Status: OK PackageFile: tidySingleCellExperiment_1.16.0.tar.gz PackageFileSize: 1.363 MiB