Package: tidySummarizedExperiment Version: 1.16.0 Command: /Library/Frameworks/R.framework/Resources/bin/R CMD INSTALL tidySummarizedExperiment StartedAt: 2025-02-10 16:54:42 -0500 (Mon, 10 Feb 2025) EndedAt: 2025-02-10 16:55:12 -0500 (Mon, 10 Feb 2025) EllapsedTime: 30.8 seconds RetCode: 0 Status: OK