Package: tidySummarizedExperiment Version: 1.16.0 Command: /Library/Frameworks/R.framework/Resources/bin/R CMD build --keep-empty-dirs --no-resave-data tidySummarizedExperiment StartedAt: 2025-02-10 22:56:06 -0500 (Mon, 10 Feb 2025) EndedAt: 2025-02-10 22:57:34 -0500 (Mon, 10 Feb 2025) EllapsedTime: 88.0 seconds RetCode: 0 Status: OK PackageFile: tidySummarizedExperiment_1.16.0.tar.gz PackageFileSize: 367.7 KiB