Package: tidySummarizedExperiment Version: 1.16.0 Command: /Library/Frameworks/R.framework/Resources/bin/R CMD INSTALL tidySummarizedExperiment StartedAt: 2025-02-03 16:05:05 -0500 (Mon, 03 Feb 2025) EndedAt: 2025-02-03 16:06:03 -0500 (Mon, 03 Feb 2025) EllapsedTime: 58.0 seconds RetCode: 0 Status: OK