Package: tidySummarizedExperiment Version: 1.16.0 Command: /home/biocbuild/bbs-3.20-bioc/R/bin/R CMD build --keep-empty-dirs --no-resave-data --md5 tidySummarizedExperiment StartedAt: 2025-02-03 19:38:36 -0500 (Mon, 03 Feb 2025) EndedAt: 2025-02-03 19:39:15 -0500 (Mon, 03 Feb 2025) EllapsedTime: 39.1 seconds RetCode: 0 Status: OK PackageFile: tidySummarizedExperiment_1.16.0.tar.gz PackageFileSize: 362.3 KiB