Package: tidySummarizedExperiment Version: 1.16.0 Command: /home/biocbuild/bbs-3.20-bioc/R/bin/R CMD INSTALL tidySummarizedExperiment StartedAt: 2025-02-10 15:40:18 -0500 (Mon, 10 Feb 2025) EndedAt: 2025-02-10 15:40:42 -0500 (Mon, 10 Feb 2025) EllapsedTime: 24.4 seconds RetCode: 0 Status: OK