Package: tidySummarizedExperiment Version: 1.16.0 Command: /home/biocbuild/R/R/bin/R CMD check --install=check:tidySummarizedExperiment.install-out.txt --library=/home/biocbuild/R/R/site-library --no-vignettes --timings tidySummarizedExperiment_1.16.0.tar.gz StartedAt: 2025-02-04 11:42:55 -0000 (Tue, 04 Feb 2025) EndedAt: 2025-02-04 11:48:10 -0000 (Tue, 04 Feb 2025) EllapsedTime: 315.4 seconds RetCode: 0 Status: OK CheckDir: tidySummarizedExperiment.Rcheck Warnings: 0