Package: tidySummarizedExperiment Version: 1.16.0 Command: /home/biocbuild/R/R/bin/R CMD INSTALL tidySummarizedExperiment StartedAt: 2025-02-03 20:56:54 -0000 (Mon, 03 Feb 2025) EndedAt: 2025-02-03 20:57:27 -0000 (Mon, 03 Feb 2025) EllapsedTime: 33.3 seconds RetCode: 0 Status: OK