Package: tidybulk Version: 1.18.0 Command: rm -rf tidybulk.buildbin-libdir && mkdir tidybulk.buildbin-libdir && /Users/biocbuild/BBS/utils/build-universal.sh tidybulk_1.18.0.tar.gz /Library/Frameworks/R.framework/Resources/bin/R tidybulk.buildbin-libdir StartedAt: 2025-02-05 18:06:07 -0500 (Wed, 05 Feb 2025) EndedAt: 2025-02-05 18:07:08 -0500 (Wed, 05 Feb 2025) EllapsedTime: 61.6 seconds RetCode: 0 Status: OK PackageFile: tidybulk_1.18.0.tgz PackageFileSize: 3.394 MiB