Package: tidybulk Version: 1.18.0 Command: /Library/Frameworks/R.framework/Resources/bin/R CMD build --keep-empty-dirs --no-resave-data tidybulk StartedAt: 2025-02-04 09:42:45 -0500 (Tue, 04 Feb 2025) EndedAt: 2025-02-04 09:44:21 -0500 (Tue, 04 Feb 2025) EllapsedTime: 95.5 seconds RetCode: 0 Status: OK PackageFile: tidybulk_1.18.0.tar.gz PackageFileSize: 2.87 MiB