Package: tidybulk Version: 1.18.0 Command: /Library/Frameworks/R.framework/Resources/bin/R CMD INSTALL tidybulk StartedAt: 2025-02-03 16:47:03 -0500 (Mon, 03 Feb 2025) EndedAt: 2025-02-03 16:48:00 -0500 (Mon, 03 Feb 2025) EllapsedTime: 56.9 seconds RetCode: 0 Status: OK