Package: tidybulk Version: 1.18.0 Command: /Library/Frameworks/R.framework/Resources/bin/R CMD build --keep-empty-dirs --no-resave-data tidybulk StartedAt: 2025-02-03 22:53:35 -0500 (Mon, 03 Feb 2025) EndedAt: 2025-02-03 22:56:27 -0500 (Mon, 03 Feb 2025) EllapsedTime: 171.5 seconds RetCode: 0 Status: OK PackageFile: tidybulk_1.18.0.tar.gz PackageFileSize: 2.871 MiB