Package: tidybulk Version: 1.18.0 Command: /home/biocbuild/bbs-3.20-bioc/R/bin/R CMD check --install=check:tidybulk.install-out.txt --library=/home/biocbuild/bbs-3.20-bioc/R/site-library --timings tidybulk_1.18.0.tar.gz StartedAt: 2025-02-04 03:10:03 -0500 (Tue, 04 Feb 2025) EndedAt: 2025-02-04 03:19:17 -0500 (Tue, 04 Feb 2025) EllapsedTime: 554.5 seconds RetCode: 0 Status: OK CheckDir: tidybulk.Rcheck Warnings: 0