Package: tidybulk Version: 1.18.0 Command: chmod a+r tidybulk -R && F:\biocbuild\bbs-3.20-bioc\R\bin\R.exe CMD build --keep-empty-dirs --no-resave-data tidybulk StartedAt: 2025-02-03 22:35:18 -0500 (Mon, 03 Feb 2025) EndedAt: 2025-02-03 22:37:07 -0500 (Mon, 03 Feb 2025) EllapsedTime: 109.4 seconds RetCode: 0 Status: OK PackageFile: tidybulk_1.18.0.tar.gz PackageFileSize: 2.754 MiB