Package: tidybulk Version: 1.18.0 Command: /home/biocbuild/R/R/bin/R CMD build --keep-empty-dirs --no-resave-data tidybulk StartedAt: 2025-02-04 03:31:04 -0000 (Tue, 04 Feb 2025) EndedAt: 2025-02-04 03:32:55 -0000 (Tue, 04 Feb 2025) EllapsedTime: 111.1 seconds RetCode: 0 Status: OK PackageFile: tidybulk_1.18.0.tar.gz PackageFileSize: 2.772 MiB