Package: tidysbml Version: 1.0.0 Command: /Library/Frameworks/R.framework/Resources/bin/R CMD build --keep-empty-dirs --no-resave-data tidysbml StartedAt: 2025-02-04 09:44:20 -0500 (Tue, 04 Feb 2025) EndedAt: 2025-02-04 09:44:36 -0500 (Tue, 04 Feb 2025) EllapsedTime: 16.0 seconds RetCode: 0 Status: OK PackageFile: tidysbml_1.0.0.tar.gz PackageFileSize: 306.7 KiB