Package: tidysbml Version: 1.0.0 Command: /Library/Frameworks/R.framework/Resources/bin/R CMD INSTALL tidysbml StartedAt: 2025-02-03 15:17:37 -0500 (Mon, 03 Feb 2025) EndedAt: 2025-02-03 15:17:40 -0500 (Mon, 03 Feb 2025) EllapsedTime: 3.7 seconds RetCode: 0 Status: OK