Package: tidysbml Version: 1.0.0 Command: /Library/Frameworks/R.framework/Resources/bin/R CMD build --keep-empty-dirs --no-resave-data tidysbml StartedAt: 2025-02-03 22:54:13 -0500 (Mon, 03 Feb 2025) EndedAt: 2025-02-03 22:54:42 -0500 (Mon, 03 Feb 2025) EllapsedTime: 28.6 seconds RetCode: 0 Status: OK PackageFile: tidysbml_1.0.0.tar.gz PackageFileSize: 306.1 KiB