Package: tidysbml Version: 1.0.0 Command: /Library/Frameworks/R.framework/Resources/bin/R CMD check --install=check:tidysbml.install-out.txt --library=/Library/Frameworks/R.framework/Resources/library --no-vignettes --timings tidysbml_1.0.0.tar.gz StartedAt: 2025-02-04 11:15:58 -0500 (Tue, 04 Feb 2025) EndedAt: 2025-02-04 11:16:57 -0500 (Tue, 04 Feb 2025) EllapsedTime: 58.4 seconds RetCode: 0 Status: OK CheckDir: tidysbml.Rcheck Warnings: 0