Package: tidysbml Version: 1.0.0 Command: /Library/Frameworks/R.framework/Resources/bin/R CMD INSTALL tidysbml StartedAt: 2025-02-03 15:16:20 -0500 (Mon, 03 Feb 2025) EndedAt: 2025-02-03 15:16:52 -0500 (Mon, 03 Feb 2025) EllapsedTime: 32.5 seconds RetCode: 0 Status: OK