Package: tidysbml Version: 1.0.0 Command: chmod a+r tidysbml -R && F:\biocbuild\bbs-3.20-bioc\R\bin\R.exe CMD build --keep-empty-dirs --no-resave-data tidysbml StartedAt: 2025-02-03 22:36:06 -0500 (Mon, 03 Feb 2025) EndedAt: 2025-02-03 22:36:28 -0500 (Mon, 03 Feb 2025) EllapsedTime: 22.0 seconds RetCode: 0 Status: OK PackageFile: tidysbml_1.0.0.tar.gz PackageFileSize: 306.3 KiB