Package: tidysbml Version: 1.0.0 Command: F:\biocbuild\bbs-3.20-bioc\R\bin\R.exe CMD check --no-multiarch --install=check:tidysbml.install-out.txt --library=F:\biocbuild\bbs-3.20-bioc\R\library --no-vignettes --timings tidysbml_1.0.0.tar.gz StartedAt: 2025-02-04 07:02:46 -0500 (Tue, 04 Feb 2025) EndedAt: 2025-02-04 07:03:25 -0500 (Tue, 04 Feb 2025) EllapsedTime: 39.1 seconds RetCode: 0 Status: OK CheckDir: tidysbml.Rcheck Warnings: 0