Package: tidysbml Version: 1.0.0 Command: F:\biocbuild\bbs-3.20-bioc\R\bin\R.exe CMD INSTALL tidysbml StartedAt: 2025-02-03 15:35:23 -0500 (Mon, 03 Feb 2025) EndedAt: 2025-02-03 15:35:35 -0500 (Mon, 03 Feb 2025) EllapsedTime: 11.6 seconds RetCode: 0 Status: OK