Package: tidysbml Version: 1.0.0 Command: /home/biocbuild/R/R/bin/R CMD check --install=check:tidysbml.install-out.txt --library=/home/biocbuild/R/R/site-library --no-vignettes --timings tidysbml_1.0.0.tar.gz StartedAt: 2025-02-04 11:42:41 -0000 (Tue, 04 Feb 2025) EndedAt: 2025-02-04 11:43:14 -0000 (Tue, 04 Feb 2025) EllapsedTime: 33.1 seconds RetCode: 0 Status: OK CheckDir: tidysbml.Rcheck Warnings: 0