Package: tidysbml Version: 1.0.0 Command: /home/biocbuild/bbs-3.20-bioc/R/bin/R CMD check --install=check:tidysbml.install-out.txt --library=/home/biocbuild/bbs-3.20-bioc/R/site-library --timings tidysbml_1.0.0.tar.gz StartedAt: 2024-11-20 10:43:04 -0500 (Wed, 20 Nov 2024) EndedAt: 2024-11-20 10:45:16 -0500 (Wed, 20 Nov 2024) EllapsedTime: 132.1 seconds RetCode: 1 Status: ERROR CheckDir: tidysbml.Rcheck Warnings: NA