Package: timecourse Version: 1.78.0 Command: /Library/Frameworks/R.framework/Resources/bin/R CMD INSTALL timecourse StartedAt: 2025-02-03 15:18:34 -0500 (Mon, 03 Feb 2025) EndedAt: 2025-02-03 15:18:40 -0500 (Mon, 03 Feb 2025) EllapsedTime: 6.1 seconds RetCode: 0 Status: OK