Package: timecourse Version: 1.78.0 Command: rm -rf timecourse.buildbin-libdir && mkdir timecourse.buildbin-libdir && /Users/biocbuild/BBS/utils/build-universal.sh timecourse_1.78.0.tar.gz /Library/Frameworks/R.framework/Resources/bin/R timecourse.buildbin-libdir StartedAt: 2025-01-31 13:51:28 -0500 (Fri, 31 Jan 2025) EndedAt: 2025-01-31 13:51:43 -0500 (Fri, 31 Jan 2025) EllapsedTime: 15.0 seconds RetCode: 0 Status: OK PackageFile: timecourse_1.78.0.tgz PackageFileSize: 943.6 KiB