Package: timecourse Version: 1.78.0 Command: /home/biocbuild/bbs-3.20-bioc/R/bin/R CMD INSTALL timecourse StartedAt: 2025-02-03 15:16:48 -0500 (Mon, 03 Feb 2025) EndedAt: 2025-02-03 15:16:53 -0500 (Mon, 03 Feb 2025) EllapsedTime: 5.4 seconds RetCode: 0 Status: OK