Package: timecourse Version: 1.78.0 Command: rm -rf timecourse.buildbin-libdir && mkdir timecourse.buildbin-libdir && F:\biocbuild\bbs-3.20-bioc\R\bin\R.exe CMD INSTALL --build --library=timecourse.buildbin-libdir timecourse_1.78.0.tar.gz StartedAt: 2025-02-04 09:41:07 -0500 (Tue, 04 Feb 2025) EndedAt: 2025-02-04 09:41:20 -0500 (Tue, 04 Feb 2025) EllapsedTime: 13.0 seconds RetCode: 0 Status: OK PackageFile: timecourse_1.78.0.zip PackageFileSize: 819.8 KiB