Package: tomoda Version: 1.16.0 Command: rm -rf tomoda.buildbin-libdir && mkdir tomoda.buildbin-libdir && /Users/biocbuild/BBS/utils/build-universal.sh tomoda_1.16.0.tar.gz /Library/Frameworks/R.framework/Resources/bin/R tomoda.buildbin-libdir StartedAt: 2025-01-31 13:51:57 -0500 (Fri, 31 Jan 2025) EndedAt: 2025-01-31 13:52:49 -0500 (Fri, 31 Jan 2025) EllapsedTime: 52.4 seconds RetCode: 0 Status: OK PackageFile: tomoda_1.16.0.tgz PackageFileSize: 2.965 MiB