Package: tomoda Version: 1.16.0 Command: /Library/Frameworks/R.framework/Resources/bin/R CMD build --keep-empty-dirs --no-resave-data tomoda StartedAt: 2025-02-03 22:57:17 -0500 (Mon, 03 Feb 2025) EndedAt: 2025-02-03 23:00:29 -0500 (Mon, 03 Feb 2025) EllapsedTime: 192.1 seconds RetCode: 0 Status: OK PackageFile: tomoda_1.16.0.tar.gz PackageFileSize: 2.905 MiB