Package: tomoda Version: 1.16.0 Command: /Library/Frameworks/R.framework/Resources/bin/R CMD INSTALL tomoda StartedAt: 2025-02-10 15:15:49 -0500 (Mon, 10 Feb 2025) EndedAt: 2025-02-10 15:16:40 -0500 (Mon, 10 Feb 2025) EllapsedTime: 51.5 seconds RetCode: 0 Status: OK