Package: tomoda Version: 1.16.0 Command: /home/biocbuild/bbs-3.20-bioc/R/bin/R CMD build --keep-empty-dirs --no-resave-data tomoda StartedAt: 2024-11-19 22:16:29 -0500 (Tue, 19 Nov 2024) EndedAt: 2024-11-19 22:17:51 -0500 (Tue, 19 Nov 2024) EllapsedTime: 81.1 seconds RetCode: 0 Status: OK PackageFile: tomoda_1.16.0.tar.gz PackageFileSize: 2.866 MiB