Package: topGO Version: 2.58.0 Command: /Library/Frameworks/R.framework/Resources/bin/R CMD build --keep-empty-dirs --no-resave-data topGO StartedAt: 2025-02-04 09:51:10 -0500 (Tue, 04 Feb 2025) EndedAt: 2025-02-04 09:53:38 -0500 (Tue, 04 Feb 2025) EllapsedTime: 147.7 seconds RetCode: 0 Status: OK PackageFile: topGO_2.58.0.tar.gz PackageFileSize: 1.907 MiB