Package: topGO Version: 2.58.0 Command: /Library/Frameworks/R.framework/Resources/bin/R CMD INSTALL topGO StartedAt: 2025-02-10 15:32:38 -0500 (Mon, 10 Feb 2025) EndedAt: 2025-02-10 15:33:22 -0500 (Mon, 10 Feb 2025) EllapsedTime: 44.5 seconds RetCode: 0 Status: OK