Package: topGO Version: 2.58.0 Command: /home/biocbuild/bbs-3.20-bioc/R/bin/R CMD INSTALL topGO StartedAt: 2025-02-03 15:26:32 -0500 (Mon, 03 Feb 2025) EndedAt: 2025-02-03 15:26:50 -0500 (Mon, 03 Feb 2025) EllapsedTime: 17.8 seconds RetCode: 0 Status: OK