Package: topdownr Version: 1.28.0 Command: /Library/Frameworks/R.framework/Resources/bin/R CMD build --keep-empty-dirs --no-resave-data topdownr StartedAt: 2025-01-31 09:34:02 -0500 (Fri, 31 Jan 2025) EndedAt: 2025-01-31 09:35:50 -0500 (Fri, 31 Jan 2025) EllapsedTime: 108.2 seconds RetCode: 0 Status: OK PackageFile: topdownr_1.28.0.tar.gz PackageFileSize: 1.535 MiB