Package: topdownr Version: 1.28.0 Command: /Library/Frameworks/R.framework/Resources/bin/R CMD build --keep-empty-dirs --no-resave-data topdownr StartedAt: 2025-02-03 22:57:27 -0500 (Mon, 03 Feb 2025) EndedAt: 2025-02-03 23:00:33 -0500 (Mon, 03 Feb 2025) EllapsedTime: 185.5 seconds RetCode: 0 Status: OK PackageFile: topdownr_1.28.0.tar.gz PackageFileSize: 1.535 MiB