Package: topdownr Version: 1.28.0 Command: /home/biocbuild/bbs-3.20-bioc/R/bin/R CMD build --keep-empty-dirs --no-resave-data --md5 topdownr StartedAt: 2025-02-03 19:39:54 -0500 (Mon, 03 Feb 2025) EndedAt: 2025-02-03 19:41:13 -0500 (Mon, 03 Feb 2025) EllapsedTime: 79.1 seconds RetCode: 0 Status: OK PackageFile: topdownr_1.28.0.tar.gz PackageFileSize: 1.527 MiB