Package: topdownr Version: 1.28.0 Command: /home/biocbuild/bbs-3.20-bioc/R/bin/R CMD check --install=check:topdownr.install-out.txt --library=/home/biocbuild/bbs-3.20-bioc/R/site-library --timings topdownr_1.28.0.tar.gz StartedAt: 2025-02-04 03:15:53 -0500 (Tue, 04 Feb 2025) EndedAt: 2025-02-04 03:22:21 -0500 (Tue, 04 Feb 2025) EllapsedTime: 387.5 seconds RetCode: 0 Status: OK CheckDir: topdownr.Rcheck Warnings: 0