Package: topdownr Version: 1.28.0 Command: rm -rf topdownr.buildbin-libdir && mkdir topdownr.buildbin-libdir && F:\biocbuild\bbs-3.20-bioc\R\bin\R.exe CMD INSTALL --build --library=topdownr.buildbin-libdir topdownr_1.28.0.tar.gz StartedAt: 2025-02-04 09:41:53 -0500 (Tue, 04 Feb 2025) EndedAt: 2025-02-04 09:43:27 -0500 (Tue, 04 Feb 2025) EllapsedTime: 93.7 seconds RetCode: 0 Status: OK PackageFile: topdownr_1.28.0.zip PackageFileSize: 2.08 MiB