Package: trackViewer Version: 1.42.0 Command: /Library/Frameworks/R.framework/Resources/bin/R CMD build --keep-empty-dirs --no-resave-data trackViewer StartedAt: 2025-01-31 09:36:52 -0500 (Fri, 31 Jan 2025) EndedAt: 2025-01-31 09:48:26 -0500 (Fri, 31 Jan 2025) EllapsedTime: 694.4 seconds RetCode: 0 Status: OK PackageFile: trackViewer_1.42.0.tar.gz PackageFileSize: 12.1 MiB