Package: trackViewer Version: 1.42.0 Command: /Library/Frameworks/R.framework/Resources/bin/R CMD INSTALL trackViewer StartedAt: 2025-02-03 16:47:48 -0500 (Mon, 03 Feb 2025) EndedAt: 2025-02-03 16:48:57 -0500 (Mon, 03 Feb 2025) EllapsedTime: 69.0 seconds RetCode: 0 Status: OK