Package: trackViewer Version: 1.42.0 Command: /home/biocbuild/R/R/bin/R CMD INSTALL trackViewer StartedAt: 2024-11-19 21:06:32 -0000 (Tue, 19 Nov 2024) EndedAt: 2024-11-19 21:07:58 -0000 (Tue, 19 Nov 2024) EllapsedTime: 86.4 seconds RetCode: 0 Status: OK