Package: trackViewer Version: 1.42.0 Command: /Library/Frameworks/R.framework/Resources/bin/R CMD check --install=check:trackViewer.install-out.txt --library=/Library/Frameworks/R.framework/Resources/library --no-vignettes --timings trackViewer_1.42.0.tar.gz StartedAt: 2025-02-04 11:25:49 -0500 (Tue, 04 Feb 2025) EndedAt: 2025-02-04 11:43:07 -0500 (Tue, 04 Feb 2025) EllapsedTime: 1037.1 seconds RetCode: 0 Status: OK CheckDir: trackViewer.Rcheck Warnings: 0