Package: trackViewer Version: 1.42.0 Command: /home/biocbuild/bbs-3.20-bioc/R/bin/R CMD check --install=check:trackViewer.install-out.txt --library=/home/biocbuild/bbs-3.20-bioc/R/site-library --timings trackViewer_1.42.0.tar.gz StartedAt: 2025-02-11 03:07:41 -0500 (Tue, 11 Feb 2025) EndedAt: 2025-02-11 03:26:37 -0500 (Tue, 11 Feb 2025) EllapsedTime: 1135.3 seconds RetCode: 0 Status: OK CheckDir: trackViewer.Rcheck Warnings: 0