Package: trackViewer Version: 1.42.0 Command: chmod a+r trackViewer -R && F:\biocbuild\bbs-3.20-bioc\R\bin\R.exe CMD build --keep-empty-dirs --no-resave-data trackViewer StartedAt: 2025-02-03 22:39:00 -0500 (Mon, 03 Feb 2025) EndedAt: 2025-02-03 22:52:38 -0500 (Mon, 03 Feb 2025) EllapsedTime: 817.5 seconds RetCode: 0 Status: OK PackageFile: trackViewer_1.42.0.tar.gz PackageFileSize: 5.495 MiB