Package: trackViewer Version: 1.42.0 Command: F:\biocbuild\bbs-3.20-bioc\R\bin\R.exe CMD INSTALL trackViewer StartedAt: 2025-02-10 16:24:00 -0500 (Mon, 10 Feb 2025) EndedAt: 2025-02-10 16:25:22 -0500 (Mon, 10 Feb 2025) EllapsedTime: 82.1 seconds RetCode: 0 Status: OK